BEGIN:VCALENDAR
VERSION:2.0
PRODID:-//Gas City Performing Arts Center - ECPv6.15.20//NONSGML v1.0//EN
CALSCALE:GREGORIAN
METHOD:PUBLISH
X-WR-CALNAME:Gas City Performing Arts Center
X-ORIGINAL-URL:https://thegascitypac.com
X-WR-CALDESC:Events for Gas City Performing Arts Center
REFRESH-INTERVAL;VALUE=DURATION:PT1H
X-Robots-Tag:noindex
X-PUBLISHED-TTL:PT1H
BEGIN:VTIMEZONE
TZID:America/Indiana/Indianapolis
BEGIN:DAYLIGHT
TZOFFSETFROM:-0500
TZOFFSETTO:-0400
TZNAME:EDT
DTSTART:20250309T070000
END:DAYLIGHT
BEGIN:STANDARD
TZOFFSETFROM:-0400
TZOFFSETTO:-0500
TZNAME:EST
DTSTART:20251102T060000
END:STANDARD
BEGIN:DAYLIGHT
TZOFFSETFROM:-0500
TZOFFSETTO:-0400
TZNAME:EDT
DTSTART:20260308T070000
END:DAYLIGHT
BEGIN:STANDARD
TZOFFSETFROM:-0400
TZOFFSETTO:-0500
TZNAME:EST
DTSTART:20261101T060000
END:STANDARD
BEGIN:DAYLIGHT
TZOFFSETFROM:-0500
TZOFFSETTO:-0400
TZNAME:EDT
DTSTART:20270314T070000
END:DAYLIGHT
BEGIN:STANDARD
TZOFFSETFROM:-0400
TZOFFSETTO:-0500
TZNAME:EST
DTSTART:20271107T060000
END:STANDARD
END:VTIMEZONE
BEGIN:VEVENT
DTSTART;TZID=America/Indiana/Indianapolis:20260410T190000
DTEND;TZID=America/Indiana/Indianapolis:20260410T190000
DTSTAMP:20260421T170253
CREATED:20260209T145657Z
LAST-MODIFIED:20260224T203146Z
UID:10000040-1775847600-1775847600@thegascitypac.com
SUMMARY:Taylorville
DESCRIPTION:Get ready to immerse yourself in the world of Taylor Swift like never before! “Taylorville” is your ticket to a night filled with chart-topping hits and cherished deep cuts. This dynamic tribute band\, armed with unmatched musical talent\, takes you on a journey through Taylor’s iconic career. The stage comes alive with a stunning video wall production\, adding a visual spectacle that complements the music perfectly. It’s a tribute that’ll make you sing\, dance\, and relive the magic of Taylor’s songs. Don’t miss this extraordinary homage to a pop sensation! \nGet Tickets \nTaylorville is fan-sponsored and not endorsed by\, directly affiliated with\, maintained\, authorized\, or sponsored by TAS Rights Management\, Taylor Swift\, or their affiliated entities. All trademarks and copyrighted material pertaining to Taylor Swift’s music\, name\, likeness\, and related intellectual properties are the property of their respective owners. This tribute artist is independent and intended for entertainment and informational purposes only. We aim to honor and extend appreciation for Taylor Swift’s music\, ensuring that our performances and representations respect her artistry and copyright.
URL:https://thegascitypac.com/event/taylorville/
LOCATION:Gas City Performing Arts Center\, 100 Auditorium Drive\, Gas City\, IN\, 46933\, United States
CATEGORIES:Concerts,Pop Music
ATTACH;FMTTYPE=image/webp:https://thegascitypac.com/wp-content/uploads/2026/02/Taylorville-Gas-City-2026-11x17-V2-scaled.webp
ORGANIZER;CN="The Gas City PAC":MAILTO:info@thegascitypac.com
END:VEVENT
BEGIN:VEVENT
DTSTART;TZID=America/Indiana/Indianapolis:20260314T190000
DTEND;TZID=America/Indiana/Indianapolis:20260314T190000
DTSTAMP:20260421T170253
CREATED:20251206T060731Z
LAST-MODIFIED:20260113T004828Z
UID:10000027-1773514800-1773514800@thegascitypac.com
SUMMARY:Micah Tyler
DESCRIPTION:Door open at 6PM\, Show at 7PM \nIt’s hard to imagine how many times Micah Tyler spent his days wondering ‘what’s next\,’ while driving a sausage delivery truck across southeast Texas. Surely he was questioning his own discernment to quit his youth pastor gig\, sell half of what he owned to move his family into a single-wide trailer\, and start traveling the region performing songs he’d written. \nNot an easy move for a guy in his late 20s living in somewhat-reclusive Buna\, Texas with a wife\, three kids\, and no strong connection to the music industry at the time. “I just knew I had to be obedient and step out into music full time\,” Micah recalls. “I told the Lord\, ‘I don’t know how to be a professional musician\, but you’ve taught me to be faithful.’ It was a daily decision to wake up every morning and stop worrying about tomorrow.” \nFast-forward down that long road and the same guy behind the delivery truck wheel now has a record deal on the same label as MercyMe\, Newsboys\, & Skillet as well as multiple Dove Award & KLOVE Award nominations\, two BMI Top 25 Christian Songs\, an appearance in a major motion picture movie\, and five #1 songs. \nA big part of Micah’s journey has included traveling 200 days per year\, ranging from performances at youth and college aged camps to conferences to touring with other artists. His impact and understanding of his younger audiences was immortalized on a viral parody video titled “Millennials\,” which has over 65 million cumulative views on YouTube and Facebook. He has toured with big name artists such as MercyMe\, David Crowder\, Jeremy Camp\, Phil Wickham\, and Big Daddy Weave. \nHundreds of nights on the road have certainly honed Micah’s purpose for ministry through a growing list of self-penned tunes borne from a place that’s as real as the person he’s trying to be. “These songs are battle-tested\,” says Micah. “I want to live the music I’m writing. There are some songs I can’t write because I haven’t lived there yet. When someone comes up to me after a concert and tells me how my songs affected them\, I want to make sure they know I can relate.” \nDifferent seems appropriate for Micah since life looks a lot different than it did ten years ago. But the passion and drive of that original step he took to serve the Lord remains very much the same and we hope that never changes. \nGet Tickets
URL:https://thegascitypac.com/event/micah-tyler/
LOCATION:Gas City Performing Arts Center\, 100 Auditorium Drive\, Gas City\, IN\, 46933\, United States
CATEGORIES:Christian,Concerts,Pop Music
ATTACH;FMTTYPE=image/webp:https://thegascitypac.com/wp-content/uploads/2025/12/11x17-3.webp
ORGANIZER;CN="The Gas City PAC":MAILTO:info@thegascitypac.com
END:VEVENT
END:VCALENDAR