BEGIN:VCALENDAR
VERSION:2.0
PRODID:-//Gas City Performing Arts Center - ECPv6.15.20//NONSGML v1.0//EN
CALSCALE:GREGORIAN
METHOD:PUBLISH
X-WR-CALNAME:Gas City Performing Arts Center
X-ORIGINAL-URL:https://thegascitypac.com
X-WR-CALDESC:Events for Gas City Performing Arts Center
REFRESH-INTERVAL;VALUE=DURATION:PT1H
X-Robots-Tag:noindex
X-PUBLISHED-TTL:PT1H
BEGIN:VTIMEZONE
TZID:America/Indiana/Indianapolis
BEGIN:DAYLIGHT
TZOFFSETFROM:-0500
TZOFFSETTO:-0400
TZNAME:EDT
DTSTART:20250309T070000
END:DAYLIGHT
BEGIN:STANDARD
TZOFFSETFROM:-0400
TZOFFSETTO:-0500
TZNAME:EST
DTSTART:20251102T060000
END:STANDARD
BEGIN:DAYLIGHT
TZOFFSETFROM:-0500
TZOFFSETTO:-0400
TZNAME:EDT
DTSTART:20260308T070000
END:DAYLIGHT
BEGIN:STANDARD
TZOFFSETFROM:-0400
TZOFFSETTO:-0500
TZNAME:EST
DTSTART:20261101T060000
END:STANDARD
BEGIN:DAYLIGHT
TZOFFSETFROM:-0500
TZOFFSETTO:-0400
TZNAME:EDT
DTSTART:20270314T070000
END:DAYLIGHT
BEGIN:STANDARD
TZOFFSETFROM:-0400
TZOFFSETTO:-0500
TZNAME:EST
DTSTART:20271107T060000
END:STANDARD
END:VTIMEZONE
BEGIN:VEVENT
DTSTART;TZID=America/Indiana/Indianapolis:20260613T190000
DTEND;TZID=America/Indiana/Indianapolis:20260613T190000
DTSTAMP:20260421T220908
CREATED:20260109T232553Z
LAST-MODIFIED:20260113T003719Z
UID:10000032-1781377200-1781377200@thegascitypac.com
SUMMARY:DCOM: LIVE
DESCRIPTION:Disney Channel Original Movie and Series Music LIVE! \nJune 13\, 2026 \nDoors open at 6PM\, Show at 7PM \nGet ready for a Night to Remember with DCOM: Live!— the ultimate Disney Channel Original Movie Tribute Concert! This high-energy show features six Broadway-caliber vocalists and an electrifying live band bringing you everything from Zenon to Zombies! \nRock out and relive your favorite hits from High School Musical\, Camp Rock\, The Cheetah Girls\, Descendants\, Hannah Montana\, Lizzie McGuire\, The Jonas Brothers and so many more! \nPacked with nostalgia\, iconic choreography\, and audience sing-alongs\, it’s a celebration for Disney Channel fans of all ages! \nCALLING ALL WILDCATS! It’s time to Jump in\, Step Up\, and Bop to the Top because DCOM: Live! is What Dreams are Made of! \nGet Tickets
URL:https://thegascitypac.com/event/dcom-live/
LOCATION:Gas City Performing Arts Center\, 100 Auditorium Drive\, Gas City\, IN\, 46933\, United States
CATEGORIES:Concerts,For The Kids,Nostalgia,Pop Music
ATTACH;FMTTYPE=image/webp:https://thegascitypac.com/wp-content/uploads/2026/01/DCOM-11x17-1-scaled.webp
ORGANIZER;CN="The Gas City PAC":MAILTO:info@thegascitypac.com
END:VEVENT
END:VCALENDAR