BEGIN:VCALENDAR
VERSION:2.0
PRODID:-//Gas City Performing Arts Center - ECPv6.15.20//NONSGML v1.0//EN
CALSCALE:GREGORIAN
METHOD:PUBLISH
X-WR-CALNAME:Gas City Performing Arts Center
X-ORIGINAL-URL:https://thegascitypac.com
X-WR-CALDESC:Events for Gas City Performing Arts Center
REFRESH-INTERVAL;VALUE=DURATION:PT1H
X-Robots-Tag:noindex
X-PUBLISHED-TTL:PT1H
BEGIN:VTIMEZONE
TZID:America/Indiana/Indianapolis
BEGIN:DAYLIGHT
TZOFFSETFROM:-0500
TZOFFSETTO:-0400
TZNAME:EDT
DTSTART:20250309T070000
END:DAYLIGHT
BEGIN:STANDARD
TZOFFSETFROM:-0400
TZOFFSETTO:-0500
TZNAME:EST
DTSTART:20251102T060000
END:STANDARD
BEGIN:DAYLIGHT
TZOFFSETFROM:-0500
TZOFFSETTO:-0400
TZNAME:EDT
DTSTART:20260308T070000
END:DAYLIGHT
BEGIN:STANDARD
TZOFFSETFROM:-0400
TZOFFSETTO:-0500
TZNAME:EST
DTSTART:20261101T060000
END:STANDARD
BEGIN:DAYLIGHT
TZOFFSETFROM:-0500
TZOFFSETTO:-0400
TZNAME:EDT
DTSTART:20270314T070000
END:DAYLIGHT
BEGIN:STANDARD
TZOFFSETFROM:-0400
TZOFFSETTO:-0500
TZNAME:EST
DTSTART:20271107T060000
END:STANDARD
END:VTIMEZONE
BEGIN:VEVENT
DTSTART;TZID=America/Indiana/Indianapolis:20260830T190000
DTEND;TZID=America/Indiana/Indianapolis:20260830T190000
DTSTAMP:20260422T044937
CREATED:20260222T171351Z
LAST-MODIFIED:20260418T220925Z
UID:10000041-1788116400-1788116400@thegascitypac.com
SUMMARY:Drake White
DESCRIPTION:Bringing Country Soul to the Performing Arts Center. \nDrake White grew up singing in his church’s youth choir in Alabama before becoming one of Country music’s most spirited innovators\, earning four Top 40 hits and traveling the country on multiple nationwide tours. His 2013 debut single “Simple Life” introduced his brand of Country soul\, which he cemented with 2016 debut album SPARK followed by the EPs ‘Pieces’ and ‘Stars.’ \n In August 2019\, he collapsed on stage due to a hemorrhagic stroke\, and doctors told him he might never perform again. After undergoing a series of operations to repair his Arteriovenous Malformation (AVM) and months of physiotherapy\, White has proved them wrong\, embarking on his The Optimystic Tour to spread his incredible positivity to his fans. New songs “Power of a Woman” and “Giants” are the latest tastes of new music from White\, who has received accolades including Rolling Stone’s 10 Country Artists You Need to Know\, The Grammy’s Artist of Tomorrow and the British CMA Awards’ International Song of the Year. He has shared the bill with Country music superstars like Luke Bryan\, Eric Church and Zac Brown Band. \nLivin’ the Dream * Luckiest Man * All would be right with the world * My Favorite Band * Angel side of you * The Simple Life * Giants * Makin’ me look good again * Power of a Woman \nGet Tickets for Drake White
URL:https://thegascitypac.com/event/drake-white/
LOCATION:Gas City Performing Arts Center\, 100 Auditorium Drive\, Gas City\, IN\, 46933\, United States
CATEGORIES:Christian,Concerts,Country Music Events,Soul-Motown-R&B
ATTACH;FMTTYPE=image/webp:https://thegascitypac.com/wp-content/uploads/2026/02/DW-4x6-1.webp
ORGANIZER;CN="The Gas City PAC":MAILTO:info@thegascitypac.com
END:VEVENT
END:VCALENDAR