BEGIN:VCALENDAR
VERSION:2.0
PRODID:-//Gas City Performing Arts Center - ECPv6.15.20//NONSGML v1.0//EN
CALSCALE:GREGORIAN
METHOD:PUBLISH
X-WR-CALNAME:Gas City Performing Arts Center
X-ORIGINAL-URL:https://thegascitypac.com
X-WR-CALDESC:Events for Gas City Performing Arts Center
REFRESH-INTERVAL;VALUE=DURATION:PT1H
X-Robots-Tag:noindex
X-PUBLISHED-TTL:PT1H
BEGIN:VTIMEZONE
TZID:America/Indiana/Indianapolis
BEGIN:DAYLIGHT
TZOFFSETFROM:-0500
TZOFFSETTO:-0400
TZNAME:EDT
DTSTART:20240310T070000
END:DAYLIGHT
BEGIN:STANDARD
TZOFFSETFROM:-0400
TZOFFSETTO:-0500
TZNAME:EST
DTSTART:20241103T060000
END:STANDARD
BEGIN:DAYLIGHT
TZOFFSETFROM:-0500
TZOFFSETTO:-0400
TZNAME:EDT
DTSTART:20250309T070000
END:DAYLIGHT
BEGIN:STANDARD
TZOFFSETFROM:-0400
TZOFFSETTO:-0500
TZNAME:EST
DTSTART:20251102T060000
END:STANDARD
BEGIN:DAYLIGHT
TZOFFSETFROM:-0500
TZOFFSETTO:-0400
TZNAME:EDT
DTSTART:20260308T070000
END:DAYLIGHT
BEGIN:STANDARD
TZOFFSETFROM:-0400
TZOFFSETTO:-0500
TZNAME:EST
DTSTART:20261101T060000
END:STANDARD
END:VTIMEZONE
BEGIN:VEVENT
DTSTART;VALUE=DATE:20251221
DTEND;VALUE=DATE:20251222
DTSTAMP:20260422T183336
CREATED:20251110T061451Z
LAST-MODIFIED:20251216T184143Z
UID:10000022-1766275200-1766361599@thegascitypac.com
SUMMARY:Cook and Belle Wonderful Christmas Time
DESCRIPTION:After decades of performing all over the country together and opening for artists such as Rascal Flatts\, Lonestar\, Charlie Daniels\, Dierks Bentley\, Montgomery Gentry\, Trace Adkins\, and Steve Miller Band\, Bret and Michelle’s passion to create and entertain have only grown. Whether you’ve watched them on their Emmy award winning TV show ‘Cook and Belle’s Playhouse’\, heard their songs on the radio\, listened to one of their many records\, or just listening for the very first time\, you will feel and hear years of passion and hard work that had one thing in mind…You. Their powerful mix of country\, soul\, 60’s and 70’s\, and gospel will take the entire family for a ride. \nSunday\, December 21\, 2025 3:00 PM Matinee \nGet Tickets
URL:https://thegascitypac.com/event/cook-and-belle-wonderful-christmas-time-2/
LOCATION:Gas City Performing Arts Center\, 100 Auditorium Drive\, Gas City\, IN\, 46933\, United States
CATEGORIES:Country Music Events
ATTACH;FMTTYPE=image/webp:https://thegascitypac.com/wp-content/uploads/2025/11/11x17-13.webp
ORGANIZER;CN="The Gas City PAC":MAILTO:info@thegascitypac.com
END:VEVENT
END:VCALENDAR