BEGIN:VCALENDAR
VERSION:2.0
PRODID:-//Gas City Performing Arts Center - ECPv6.15.20//NONSGML v1.0//EN
CALSCALE:GREGORIAN
METHOD:PUBLISH
X-WR-CALNAME:Gas City Performing Arts Center
X-ORIGINAL-URL:https://thegascitypac.com
X-WR-CALDESC:Events for Gas City Performing Arts Center
REFRESH-INTERVAL;VALUE=DURATION:PT1H
X-Robots-Tag:noindex
X-PUBLISHED-TTL:PT1H
BEGIN:VTIMEZONE
TZID:America/Indiana/Indianapolis
BEGIN:DAYLIGHT
TZOFFSETFROM:-0500
TZOFFSETTO:-0400
TZNAME:EDT
DTSTART:20250309T070000
END:DAYLIGHT
BEGIN:STANDARD
TZOFFSETFROM:-0400
TZOFFSETTO:-0500
TZNAME:EST
DTSTART:20251102T060000
END:STANDARD
BEGIN:DAYLIGHT
TZOFFSETFROM:-0500
TZOFFSETTO:-0400
TZNAME:EDT
DTSTART:20260308T070000
END:DAYLIGHT
BEGIN:STANDARD
TZOFFSETFROM:-0400
TZOFFSETTO:-0500
TZNAME:EST
DTSTART:20261101T060000
END:STANDARD
BEGIN:DAYLIGHT
TZOFFSETFROM:-0500
TZOFFSETTO:-0400
TZNAME:EDT
DTSTART:20270314T070000
END:DAYLIGHT
BEGIN:STANDARD
TZOFFSETFROM:-0400
TZOFFSETTO:-0500
TZNAME:EST
DTSTART:20271107T060000
END:STANDARD
END:VTIMEZONE
BEGIN:VEVENT
DTSTART;TZID=America/Indiana/Indianapolis:20260626T190000
DTEND;TZID=America/Indiana/Indianapolis:20260626T190000
DTSTAMP:20260421T221141
CREATED:20260302T002104Z
LAST-MODIFIED:20260328T181106Z
UID:10000043-1782500400-1782500400@thegascitypac.com
SUMMARY:Shenandoah
DESCRIPTION:When country music lovers talk about the greatest groups in the genre\, Shenandoah is always at the forefront of any discussion. Fueled by Marty Raybon’s distinctive vocals and the band’s skilled musicianship\, Shenandoah became well known for delivering such hits as “Two Dozen Roses”\, “Church on Cumberland Road” and “Next to You\, Next to Me” as well as such achingly beautiful classics as “I Want to be Loved Like That” and the Grammy winning “Somewhere in the Vicinity of the Heart” duet with Alison Krauss. Shenandoah has recorded ten studio albums (3 certified gold) and placed 26 singles on Billboard’s Hot Country Songs chart. The boys from Muscle Shoals have left a potent legacy at country radio with over a dozen #1 records.\nGet Tickets
URL:https://thegascitypac.com/event/shenandoah/
LOCATION:Gas City Performing Arts Center\, 100 Auditorium Drive\, Gas City\, IN\, 46933\, United States
CATEGORIES:80s,Concerts,Country Music Events,Country Rock
ATTACH;FMTTYPE=image/jpeg:https://thegascitypac.com/wp-content/uploads/2026/03/imgi_16_1117-Shenandoah-scaled.jpg
ORGANIZER;CN="The Gas City PAC":MAILTO:info@thegascitypac.com
END:VEVENT
END:VCALENDAR