BEGIN:VCALENDAR
VERSION:2.0
PRODID:-//Gas City Performing Arts Center - ECPv6.15.20//NONSGML v1.0//EN
CALSCALE:GREGORIAN
METHOD:PUBLISH
X-ORIGINAL-URL:https://thegascitypac.com
X-WR-CALDESC:Events for Gas City Performing Arts Center
REFRESH-INTERVAL;VALUE=DURATION:PT1H
X-Robots-Tag:noindex
X-PUBLISHED-TTL:PT1H
BEGIN:VTIMEZONE
TZID:America/Indiana/Indianapolis
BEGIN:DAYLIGHT
TZOFFSETFROM:-0500
TZOFFSETTO:-0400
TZNAME:EDT
DTSTART:20250309T070000
END:DAYLIGHT
BEGIN:STANDARD
TZOFFSETFROM:-0400
TZOFFSETTO:-0500
TZNAME:EST
DTSTART:20251102T060000
END:STANDARD
BEGIN:DAYLIGHT
TZOFFSETFROM:-0500
TZOFFSETTO:-0400
TZNAME:EDT
DTSTART:20260308T070000
END:DAYLIGHT
BEGIN:STANDARD
TZOFFSETFROM:-0400
TZOFFSETTO:-0500
TZNAME:EST
DTSTART:20261101T060000
END:STANDARD
BEGIN:DAYLIGHT
TZOFFSETFROM:-0500
TZOFFSETTO:-0400
TZNAME:EDT
DTSTART:20270314T070000
END:DAYLIGHT
BEGIN:STANDARD
TZOFFSETFROM:-0400
TZOFFSETTO:-0500
TZNAME:EST
DTSTART:20271107T060000
END:STANDARD
END:VTIMEZONE
BEGIN:VEVENT
DTSTART;TZID=America/Indiana/Indianapolis:20260530T190000
DTEND;TZID=America/Indiana/Indianapolis:20260530T190000
DTSTAMP:20260421T163204
CREATED:20251208T144523Z
LAST-MODIFIED:20260131T003917Z
UID:10000029-1780167600-1780167600@thegascitypac.com
SUMMARY:Gary Roland and Landsharks
DESCRIPTION:A Jimmy Buffett Tribute Show with the Landsharks \nDoors 6pm\, Show is 7pm \nSummer kickoff party with Landsharks! The best Jimmy Buffett Tribute and party around! \nThe original\, premier Jimmy Buffett Tribute band. After playing with the Landsharks band in Key West\, Jimmy Buffett hired The Landsharks to be the house band at Margaritaville. \nGet Tickets
URL:https://thegascitypac.com/event/gary-roland-and-landsharks/
LOCATION:Gas City Performing Arts Center\, 100 Auditorium Drive\, Gas City\, IN\, 46933\, United States
CATEGORIES:70s,80s,Classic Rock,Concerts,Nostalgia,Pop Music
ATTACH;FMTTYPE=image/jpeg:https://thegascitypac.com/wp-content/uploads/2025/12/184080_1764630224362-Landsharks4x6.jpeg
ORGANIZER;CN="The Gas City PAC":MAILTO:info@thegascitypac.com
END:VEVENT
BEGIN:VEVENT
DTSTART;TZID=America/Indiana/Indianapolis:20260606T190000
DTEND;TZID=America/Indiana/Indianapolis:20260606T190000
DTSTAMP:20260421T163204
CREATED:20260105T145936Z
LAST-MODIFIED:20260113T193701Z
UID:10000031-1780772400-1780772400@thegascitypac.com
SUMMARY:Hyryder- Grateful Dead Tribute Band
DESCRIPTION:HYRYDER a Grateful Dead Tribute\n7:00 PM\n \nImmerse yourself in the timeless magic of the Grateful Dead with Hyryder\, a tribute band dedicated to capturing the spirit\, improvisation\, and musical exploration that defined an era. \nHyryder brings the legendary dead tunes to life with passion and authenticity. \nCome and join the ride—where the spirit of Jerry Garcia and the Grateful Dead lives on\, revitalized by the sonic mastery of Hyryder. \nElevate your concert experience\, relive the magic\, and let the music carry you away with the ultimate Grateful Dead tribute–Hyryder. \nGet Tickets
URL:https://thegascitypac.com/event/hyryder-grateful-dead-tribute-band/
LOCATION:Gas City Performing Arts Center\, 100 Auditorium Drive\, Gas City\, IN\, 46933\, United States
CATEGORIES:70s,80s,Classic Rock,Concerts,Nostalgia
ATTACH;FMTTYPE=image/webp:https://thegascitypac.com/wp-content/uploads/2026/01/Hyryder-11x17-2-scaled.webp
END:VEVENT
BEGIN:VEVENT
DTSTART;TZID=America/Indiana/Indianapolis:20260620T190000
DTEND;TZID=America/Indiana/Indianapolis:20260620T190000
DTSTAMP:20260421T163204
CREATED:20260207T082557Z
LAST-MODIFIED:20260418T194330Z
UID:10000039-1781982000-1781982000@thegascitypac.com
SUMMARY:The Eagles Project
DESCRIPTION:“The Eagles Project is simply the best Eagles Tribute Band period.” \nWhen it comes to performing Eagles and their solo material\, there is no better tribute band. From incredible musicianship to flawless vocals\, The Eagles Project have no competition. Performing classic Eagles hits along with popular songs from the solo projects of its members. \n​Get Tickets
URL:https://thegascitypac.com/event/the-eagles-project/
LOCATION:Gas City Performing Arts Center\, 100 Auditorium Drive\, Gas City\, IN\, 46933\, United States
CATEGORIES:70s,Classic Rock,Concerts,Country Rock,Nostalgia
ATTACH;FMTTYPE=image/webp:https://thegascitypac.com/wp-content/uploads/2026/02/1117-poster-1-scaled.webp
ORGANIZER;CN="The Gas City PAC":MAILTO:info@thegascitypac.com
END:VEVENT
BEGIN:VEVENT
DTSTART;TZID=America/Indiana/Indianapolis:20260725T190000
DTEND;TZID=America/Indiana/Indianapolis:20260725T190000
DTSTAMP:20260421T163204
CREATED:20260306T220351Z
LAST-MODIFIED:20260418T215047Z
UID:10000044-1785006000-1785006000@thegascitypac.com
SUMMARY:Southern Accents The Ultimate Tom Petty Experience
DESCRIPTION:There’s a southern accent where they come from… Based out of Nashville\, TN\, Southern Accents: The Ultimate Tom Petty Experience features some of the best musicians from a state rich in musical history. What began as a fun way to honor one of their musical heroes in early 2017 quickly spiraled into sold-out shows in top venues across the country. The ultimate goal of the band? To authentically replicate the sound\, feel and look of a classic Tom Petty & The Heartbreakers concert. \nFrom the top\, lead singer Ronnie Gregg expertly nails the voice and mannerisms of Tom with a natural ease. Lead guitarist Nick Swan hits every classic note from Mike Campbell\, and throws in a few more of his own for good measure. Bassist and co-founder Paul Jones perfectly meshes the styles of Ron Blair and Howie Epstein\, while animated powerhouse Tony Mac combines the timeless swing of Stan Lynch with the clockwork timing of Steve Ferrone. Family band alum Jeff Hollandsworth rounds out the group by effortlessly playing the key parts of Benmont Tench\, while also adding in flourishes of strings\, horns and harmonica. \nTaking their name from one of Petty’s most personal songs was no random choice. There’s just something about the South. Tom knew it\, and these guys know it. They got their own way of playing\, but every note’s begun with a southern accent.\nGet Tickets
URL:https://thegascitypac.com/event/southern-accents-the-ultimate-tom-petty-experience/
LOCATION:Gas City Performing Arts Center\, 100 Auditorium Drive\, Gas City\, IN\, 46933\, United States
CATEGORIES:80s,Classic Rock,Concerts,Nostalgia
ATTACH;FMTTYPE=image/webp:https://thegascitypac.com/wp-content/uploads/2026/03/SA-11x17-j-2-scaled.webp
ORGANIZER;CN="The Gas City PAC":MAILTO:info@thegascitypac.com
END:VEVENT
BEGIN:VEVENT
DTSTART;TZID=America/Indiana/Indianapolis:20260731T190000
DTEND;TZID=America/Indiana/Indianapolis:20260731T190000
DTSTAMP:20260421T163204
CREATED:20260324T192103Z
LAST-MODIFIED:20260418T214418Z
UID:10000047-1785524400-1785524400@thegascitypac.com
SUMMARY:Black Water Revival
DESCRIPTION:Dedicated to the music of the Doobie Brothers! \nBlack Water Revival is a multi-member tribute project dedicated to the music of The Doobie Brothers \nRonnie Scharrer – Lead Guitar/Guitars/Vocals \nDavid Ramsey – Lead Vocals \nGene East – Guitars/Vocals \nJoshua Kendall – Bass Guitar \nRoland Robertson – Keyboards \nDion Pait – Drums/Percussion \nMike Bailey – Percussion/Drums/Vocals \nGet Tickets
URL:https://thegascitypac.com/event/black-water-revival/
LOCATION:Gas City Performing Arts Center\, 100 Auditorium Drive\, Gas City\, IN\, 46933\, United States
CATEGORIES:70s,Classic Rock,Concerts,Nostalgia
ATTACH;FMTTYPE=image/webp:https://thegascitypac.com/wp-content/uploads/2026/03/11x17-BW-1-scaled.webp
ORGANIZER;CN="The Gas City PAC":MAILTO:info@thegascitypac.com
END:VEVENT
BEGIN:VEVENT
DTSTART;TZID=America/Indiana/Indianapolis:20260814T190000
DTEND;TZID=America/Indiana/Indianapolis:20260814T190000
DTSTAMP:20260421T163204
CREATED:20260412T191534Z
LAST-MODIFIED:20260418T214450Z
UID:10000049-1786734000-1786734000@thegascitypac.com
SUMMARY:Brass Transit
DESCRIPTION:Brass Transit – a dynamic\, crowd-pleasing\, studio-tight powerhouse\, and the world’s foremost Chicago tribute show!\nBrass Transit was formed in 2008\, its accomplished\, award-winning roster intent on paying tribute to the decades-long\, multiplatinum songbook of Chicago. Since 2008\, Brass Transit has toured North America steadily\, dazzling audiences with flawless performances and spectacular attention to detail. Hits like\, Saturday In The Park\, 25 or 6 To 4\, If You Leave Me Now\, Feelin’ Stronger Every Day and You’re The Inspiration have left crowds in awe\, inspiring multiple standing ovations and comments like: “Spine-Tingling!” “Brought me back to my youth!” and “Perfect in every detail!” \nBrass Transit goes far beyond just replicating the songs; they embody the music. They recently produced their first (self-titled) album\, taking songs by other top rock artists from the seventies and recording them with horns in the Chicago style. The result is a fresh approach to some of the greatest hits of the era. They also recently scored their show for full symphony orchestra with original arrangements that are truly spellbinding. \nGet Tickets
URL:https://thegascitypac.com/event/brass-transit/
LOCATION:Gas City Performing Arts Center\, 100 Auditorium Drive\, Gas City\, IN\, 46933\, United States
CATEGORIES:80s,Classic Rock,Concerts,Nostalgia,Pop Music
ATTACH;FMTTYPE=image/webp:https://thegascitypac.com/wp-content/uploads/2026/03/BT-11x17-2-scaled.webp
ORGANIZER;CN="The Gas City PAC":MAILTO:info@thegascitypac.com
END:VEVENT
BEGIN:VEVENT
DTSTART;TZID=America/Indiana/Indianapolis:20260822T190000
DTEND;TZID=America/Indiana/Indianapolis:20260822T190000
DTSTAMP:20260421T163204
CREATED:20260320T212345Z
LAST-MODIFIED:20260418T194430Z
UID:10000046-1787425200-1787425200@thegascitypac.com
SUMMARY:Feels Like the First Time
DESCRIPTION:America’s #1 Tribute to Foreigner\nFeels Like The First Time is an American 7-piece rock band formed in 2017 as a tribute to the music of British/American rock band Foreigner and is based out of Milwaukee\, WI. The band is made up of veteran musicians with decades of experience entertaining rock music fans at premier venues\, festivals and concert events. The members of Feels Like The First Time having grown up with the music of Foreigner\, are proud to perform for you\, as they pay tribute to the music of Foreigner! \nGet Tickets
URL:https://thegascitypac.com/event/feels-like-the-first-time/
LOCATION:Gas City Performing Arts Center\, 100 Auditorium Drive\, Gas City\, IN\, 46933\, United States
CATEGORIES:80s,Classic Rock,Concerts,Nostalgia
ATTACH;FMTTYPE=image/webp:https://thegascitypac.com/wp-content/uploads/2026/03/11x17-poster-3-1-scaled.webp
END:VEVENT
END:VCALENDAR