BEGIN:VCALENDAR
VERSION:2.0
PRODID:-//Gas City Performing Arts Center - ECPv6.15.20//NONSGML v1.0//EN
CALSCALE:GREGORIAN
METHOD:PUBLISH
X-ORIGINAL-URL:https://thegascitypac.com
X-WR-CALDESC:Events for Gas City Performing Arts Center
REFRESH-INTERVAL;VALUE=DURATION:PT1H
X-Robots-Tag:noindex
X-PUBLISHED-TTL:PT1H
BEGIN:VTIMEZONE
TZID:America/Halifax
BEGIN:DAYLIGHT
TZOFFSETFROM:-0400
TZOFFSETTO:-0300
TZNAME:ADT
DTSTART:20240310T060000
END:DAYLIGHT
BEGIN:STANDARD
TZOFFSETFROM:-0300
TZOFFSETTO:-0400
TZNAME:AST
DTSTART:20241103T050000
END:STANDARD
BEGIN:DAYLIGHT
TZOFFSETFROM:-0400
TZOFFSETTO:-0300
TZNAME:ADT
DTSTART:20250309T060000
END:DAYLIGHT
BEGIN:STANDARD
TZOFFSETFROM:-0300
TZOFFSETTO:-0400
TZNAME:AST
DTSTART:20251102T050000
END:STANDARD
BEGIN:DAYLIGHT
TZOFFSETFROM:-0400
TZOFFSETTO:-0300
TZNAME:ADT
DTSTART:20260308T060000
END:DAYLIGHT
BEGIN:STANDARD
TZOFFSETFROM:-0300
TZOFFSETTO:-0400
TZNAME:AST
DTSTART:20261101T050000
END:STANDARD
END:VTIMEZONE
BEGIN:VEVENT
DTSTART;VALUE=DATE:20251024
DTEND;VALUE=DATE:20251025
DTSTAMP:20260422T043328
CREATED:20250722T042500Z
LAST-MODIFIED:20251217T132842Z
UID:10000007-1761264000-1761350399@thegascitypac.com
SUMMARY:Herman’s Hermits starring Peter Noone
DESCRIPTION:Peter Blair Denis Bernard Noone is a multi-talented entertainer\, who has been delighting audiences nearly all his life. He was born in Manchester\, England\, where he studied voice and acting at St. Bede’s College and the Manchester School of Music and Drama. As a child\, he played “Stanley Fairclough” in the long-running British soap opera Coronation Street. He was also featured in the television series Knight Errant\, Family Solicitor and Monro’s Saki Stories. \nAt the age of fifteen\, Peter achieved international fame as “Herman”\, lead singer of the legendary pop band Herman’s Hermits. His classic hits include: “I’m Into Something Good”\, “Mrs. Brown\, you’ve Got A Lovely Daughter”\, “I’m Henry VIII\, I Am”\, “Silhouettes”\, “Can’t You Hear My Heartbeat”\, “Wonderful World”\, “Just A Little Bit Better”\, “There’s A Kind of Hush”\, “A Must To Avoid”\, “Listen People”\, “No Milk Today” “The End of the World” “Leaning On A Lamp Post”\, and “Dandy”. Ultimately\, Herman’s Hermits sold over fifty-two million recordings. In all\, fourteen singles and seven albums went gold. \nGet Tickets
URL:https://thegascitypac.com/event/hermans-hermits-starring-peter-noone/
LOCATION:Gas City Performing Arts Center\, 100 Auditorium Drive\, Gas City\, IN\, 46933\, United States
CATEGORIES:Classic Rock
ATTACH;FMTTYPE=image/jpeg:https://thegascitypac.com/wp-content/uploads/2025/07/687e866f87d27_Poster-6.jpeg
ORGANIZER;CN="The Gas City PAC":MAILTO:info@thegascitypac.com
END:VEVENT
END:VCALENDAR