BEGIN:VCALENDAR
VERSION:2.0
PRODID:-//Gas City Performing Arts Center - ECPv6.15.20//NONSGML v1.0//EN
CALSCALE:GREGORIAN
METHOD:PUBLISH
X-WR-CALNAME:Gas City Performing Arts Center
X-ORIGINAL-URL:https://thegascitypac.com
X-WR-CALDESC:Events for Gas City Performing Arts Center
REFRESH-INTERVAL;VALUE=DURATION:PT1H
X-Robots-Tag:noindex
X-PUBLISHED-TTL:PT1H
BEGIN:VTIMEZONE
TZID:America/Indiana/Indianapolis
BEGIN:DAYLIGHT
TZOFFSETFROM:-0500
TZOFFSETTO:-0400
TZNAME:EDT
DTSTART:20240310T070000
END:DAYLIGHT
BEGIN:STANDARD
TZOFFSETFROM:-0400
TZOFFSETTO:-0500
TZNAME:EST
DTSTART:20241103T060000
END:STANDARD
BEGIN:DAYLIGHT
TZOFFSETFROM:-0500
TZOFFSETTO:-0400
TZNAME:EDT
DTSTART:20250309T070000
END:DAYLIGHT
BEGIN:STANDARD
TZOFFSETFROM:-0400
TZOFFSETTO:-0500
TZNAME:EST
DTSTART:20251102T060000
END:STANDARD
BEGIN:DAYLIGHT
TZOFFSETFROM:-0500
TZOFFSETTO:-0400
TZNAME:EDT
DTSTART:20260308T070000
END:DAYLIGHT
BEGIN:STANDARD
TZOFFSETFROM:-0400
TZOFFSETTO:-0500
TZNAME:EST
DTSTART:20261101T060000
END:STANDARD
END:VTIMEZONE
BEGIN:VEVENT
DTSTART;VALUE=DATE:20251231
DTEND;VALUE=DATE:20260101
DTSTAMP:20260421T234122
CREATED:20250819T035510Z
LAST-MODIFIED:20251216T184222Z
UID:10000012-1767139200-1767225599@thegascitypac.com
SUMMARY:Hubie Ashcraft New Year's Eve Party!
DESCRIPTION:Join Gas City\, The Gas City Performing Arts Center and Hubie Ashcraft for the GREATEST NEW YEAR’S EVE PARTY EVER! \nHubie Ashcraft of Fort Wayne\, IN is a Singer/Songwriter/Guitarist/Entertainer. Ashcraft is widely known for playing energetic live shows that include elements of Rock\, Americana\, and Country all infused with pop sensibilities\, authentic lyrics\, and soul. In addition to playing electric guitar\, Ashcraft also has two years of classical guitar training. \nAshcraft started playing guitar when he was twelve years old\, but it wasn’t until he saw Bruce Springsteen perform live in Indianapolis\, IN when he was fifteen that he knew he wanted to make music his career. Ashcraft has also been influenced by other music artists such as: Merle Haggard\, Vince Gill\, Van Morrison\, Tom Petty\, John Mellencamp and Willie Nelson. \n \nGet Tickets
URL:https://thegascitypac.com/event/hubie-ashcraft-new-years-eve-party/
LOCATION:Gas City Performing Arts Center\, 100 Auditorium Drive\, Gas City\, IN\, 46933\, United States
CATEGORIES:Classic Rock,Concerts,Country Music Events,Country Rock
ATTACH;FMTTYPE=image/webp:https://thegascitypac.com/wp-content/uploads/2025/08/1.webp
ORGANIZER;CN="The Gas City PAC":MAILTO:info@thegascitypac.com
END:VEVENT
END:VCALENDAR